BEGIN:VCALENDAR
VERSION:2.0
PRODID:-//hacksw/handcal//NONSGML v1.0//EN
BEGIN:VEVENT
SUMMARY:Randonnee - Saint Remy de Provence - Les Alpilles - sortie 1
UID:fbf90d3b-f3f4-475f-b132-3cfdc1c2be40
DTSTART:20260517T073000Z
DTEND:20260517T150000Z
LOCATION:Localisation   
CATEGORIES:Sportif
STATUS:
DESCRIPTION:<p><strong>Niveau Difficulte : Facile (🥾 sur
 5)</strong><br>
 Niveau Vertigineux:  Nulle- pas de passage
 vertigineux (🧗 sur 5)<br>
 <strong>Distance : 17 Km - Modere +  (
 ⭐️⭐️sur 5)</strong><br>
 Denivele : faible 350m(⛰️ sur
 5)<br>
 Animaux de compagnie 🐶 🐱 toleres <br>
 Duree estimee
 (pauses incluses) :6h</p>
 
 <p>En ce mois de Mai, nous vous vous
 proposons une randonnee dans Les Alpilles au depart de St Remy de
 Provence <br>
 Il s'agit d'une randonnee de 17km sans aucune
 difficulte majeure. Elle culmine a 290 m d’alt. Cette boucle
 commence par longer le petit canal des Alpilles, puis traverse des
 champs d’oliviers et des forets de pins. Elle offre de tres belles
 vues sur le Ventoux et le village des Baux de Provence. Peu avant
 notre retour a notre point de depart, nous decouvrirons le lac du
 Peirou. L’endroit est charmant ! On pourra y faire une halte (mais
 la baignade n’y est pas autorisee)</p>
 
 <p>Point de rendez-vous  :
 prenez l’Avenue du Souvenir Francais a St Remy de Provence. Le
 cimetiere est a gauche et a droite de la rue. Juste apres les murs du
 cimetiere, il y a 2 parking pour se garer (gratuits), un sur la
 gauche et un sur la droite. C’est la que demarrera notre
 randonnee.</p>
 
 <p>Comme d’habitude, on privilegie le covoiturage
 (peage autoroute depuis Marseille = 4€80 x 2) 🚗
 💨<br>
 Rendez-vous a 9h15 au point de rendez-vous pour un depart
 9h30. </p>
 
 <p>https://maps.app.goo.gl/iMNuu7nrMjVrgNaQ7<br>
  <br>
 Comme
 d'habitude on prevoira le picnic, beaucoup d'eau (2/3L), une tenue
 adaptee a la meteo et casquette, chapeau, ou bob car cette randonnee
 n’offre pas bcp d’endroits a l’ombre☀️😎🧢Lunettes de
 soleil et creme solaire sont vivement conseillees, et bien entendu
 chaussures de randonnee obligatoires ! 🥾</p>
 
 <p>Et comme nos
 voitures seront garees a moins de 10 minutes a pied du centre de St
 Remy de Provence, ceux qui le souhaitent pourront aller apres la
 randonnee a St Remy pour une visite, du shopping ou simplement
 deguster une bonne glace 🍨</p>
URL;VALUE=URI:https://www.frontrunnersmarseille.org/evenements/2026/05/17/randonnee-saint-remy-de-provence-les-alpilles-sortie-1-2441047
END:VEVENT
END:VCALENDAR
